BEGIN:VCALENDAR
VERSION:2.0
PRODID:-//Ventura County Sportfishing Club - ECPv6.15.20//NONSGML v1.0//EN
CALSCALE:GREGORIAN
METHOD:PUBLISH
X-WR-CALNAME:Ventura County Sportfishing Club
X-ORIGINAL-URL:https://vcsc.info
X-WR-CALDESC:Events for Ventura County Sportfishing Club
REFRESH-INTERVAL;VALUE=DURATION:PT1H
X-Robots-Tag:noindex
X-PUBLISHED-TTL:PT1H
BEGIN:VTIMEZONE
TZID:America/Los_Angeles
BEGIN:DAYLIGHT
TZOFFSETFROM:-0800
TZOFFSETTO:-0700
TZNAME:PDT
DTSTART:20250309T100000
END:DAYLIGHT
BEGIN:STANDARD
TZOFFSETFROM:-0700
TZOFFSETTO:-0800
TZNAME:PST
DTSTART:20251102T090000
END:STANDARD
BEGIN:DAYLIGHT
TZOFFSETFROM:-0800
TZOFFSETTO:-0700
TZNAME:PDT
DTSTART:20260308T100000
END:DAYLIGHT
BEGIN:STANDARD
TZOFFSETFROM:-0700
TZOFFSETTO:-0800
TZNAME:PST
DTSTART:20261101T090000
END:STANDARD
BEGIN:DAYLIGHT
TZOFFSETFROM:-0800
TZOFFSETTO:-0700
TZNAME:PDT
DTSTART:20270314T100000
END:DAYLIGHT
BEGIN:STANDARD
TZOFFSETFROM:-0700
TZOFFSETTO:-0800
TZNAME:PST
DTSTART:20271107T090000
END:STANDARD
END:VTIMEZONE
BEGIN:VEVENT
DTSTART;TZID=America/Los_Angeles:20260304T173000
DTEND;TZID=America/Los_Angeles:20260304T200000
DTSTAMP:20260419T081209
CREATED:20251201T214221Z
LAST-MODIFIED:20260223T051811Z
UID:2863-1772645400-1772654400@vcsc.info
SUMMARY:Monthly Meeting – March 4\, 2026
DESCRIPTION:SPECIAL PRESENTATION BY Aren Antounian\n\n\nAren Antounian is a Los Angeles–based fishing‑industry professional\, custom rod builder\, and executive at Bob Sands Fishing Tackle\, a well‑known tackle shop in Van Nuys\, CA.  \nAren brings in first-hand knowledge from the sportfisher side and the business side — especially when it comes to gear. Scroll down to read his bio! \n5:30 – dinner & social time\n6:30 – meeting\n\n\n\n\nLocation:  The Black Bear Diner\n2401 E Harbor Blvd\nVentura\, CA 93001 | Map\n\n\nPLEASE READ — LOCATION & POLICY CHANGE: \n\n\n\nAs part of our agreement with Black Bear\, all attendees are expected to order at least one food item and one beverage from their reasonably priced menu\, so if you’re a pie & decaf person — or love a full-on hearty\,  homestyle meal – then come on down\, enjoy a nice hot meal and enjoy the November meeting in a nice private room with a BIG SCREEN tv for presentations!\n\n\n\n\n\n\n\n\n\n“Fuzzy” ITINERARY \n\n\nDinner: 5:30 – 6:30pm\nMeeting starts: 6:30pm\n\n\n\n\n\nClub Business\nOpportunity Drawing\nSpeaker Presentation\n2nd Opportunity drawing\n\n\n\n\n\n\nWrap-up & Exit around 8:00-8:30pm-ish\n\n\n\n\n\n\n\n\n\n\n\n** Our opportunity drawings are like door prizes.  It costs nothing\, but we hope you will throw a little something in the club’s donation box to keep it going all year! Get your tickets when you arrive. \nYou can find the list of the prizes that are up for grabs tonight at: https://vcsc.info/prizes-meeting/ \n\n\n\n\n\n \n🎣 Who Aren Antounian Is\n\nManager at Bob Sands Fishing Tackle in Los Angeles\, a respected hub for SoCal anglers.\nKnown for custom rod building\, often featured on social media under Aren Rods and in product descriptions for United Composites jigging rods.\nPlays a visible role in the shop’s product development\, especially in jigging rod design and testing\, where he provides detailed insights on rod action\, guide alignment\, and performance on sport boats.\n\n🧭 Business Role\n\nCEO and Director of Bob Sands Fishing Tackle\, Inc.\nThe registered agent for the corporation\, located at the shop’s Sepulveda Blvd address in Van Nuys.\n\n📸 Online Presence\nSearch results show: \n\nInstagram activity related to custom rods and fishing gear.\nA YouTube channel under his name.\nMultiple mentions in fishing groups and customer posts celebrating rod builds and purchases.\n\n🎣 Why Anglers Know Him\nAren is especially recognized for: \n\nDeep knowledge of SoCal jigging techniques\nHands‑on involvement in rod design with United Composites\nBeing a go‑to resource for anglers looking to dial in their setups\n\n \n\n\n\nJoin us for our monthly meetings! \n\n\nLooking to connect with fellow fishing enthusiasts? Be a welcomed visitor\, where conversation flows as easily as the beer\, wine or water!\n\nWhether you’re new to sportfishing – or surf fishing\, this is a great spot to swap tips\, meet friendly faces\, and enjoy the community. It’s casual\, it’s free\, and everyone’s welcome.\n\n\nCome early and join us for dinner and drinks (5:30pm). We’ll be having opportunity drawings. A raffle to raise funds for a kid’s charter.  Announce what charters still have openings and more!\n\n\n\nWe are the “reel deal” Sportfishing club in Ventura\n\n\n\n\n\n\nTHE ABC’S OF WHO WE ARE!\n\nABOUT US\n\nBOARD OF DIRECTORS\nCALENDAR & EVENTS\nMEETINGS\, MONTHLY\nMEMBERSHIP/JOIN OUR CLUB!\nNEWSLETTERS\nSOCIAL MEDIA\nSUBSCRIBE TO EMAILS!\nLINKTREE\nCONTACT US!\n\n\n\nVISIT US ONLINE:\n\nhttps://vcsc.info/\nhttps://www.facebook.com/VCSCVenturaCountySportfishingClub\nhttps://www.instagram.com/venturasportfishingclub/\nhttps://twitter.com/VCSportFishClub\n\nhttps://linktr.ee/venturacountysportfishingclub\n\nWe are the “reel deal” Sportfishing club in Ventura
URL:https://vcsc.info/event/monthly-meeting-03-04-2026/
LOCATION:Black Bear Diner (Ventura)\, 2401 E Harbor Blvd\, Ventura\, CA\, 93001\, United States
END:VEVENT
END:VCALENDAR